BEGIN:VCALENDAR
VERSION:2.0
PRODID:-//JSS College for Women, Kollegal - ECPv5.5.0//NONSGML v1.0//EN
CALSCALE:GREGORIAN
METHOD:PUBLISH
X-WR-CALNAME:JSS College for Women, Kollegal
X-ORIGINAL-URL:http://jsscwkgl.org
X-WR-CALDESC:Events for JSS College for Women, Kollegal
BEGIN:VTIMEZONE
TZID:UTC
BEGIN:STANDARD
TZOFFSETFROM:+0000
TZOFFSETTO:+0000
TZNAME:UTC
DTSTART:20180101T000000
END:STANDARD
END:VTIMEZONE
BEGIN:VEVENT
DTSTART;VALUE=DATE:20180717
DTEND;VALUE=DATE:20180718
DTSTAMP:20260426T012305
CREATED:20200117T091034Z
LAST-MODIFIED:20200117T091034Z
UID:7349-1531785600-1531871999@jsscwkgl.org
SUMMARY:Talent Search Programme
DESCRIPTION:
URL:http://jsscwkgl.org/event/talent-search-programme/
CATEGORIES:PG
END:VEVENT
END:VCALENDAR