BEGIN:VCALENDAR
VERSION:2.0
PRODID:-//JSS College for Women, Kollegal - ECPv5.5.0//NONSGML v1.0//EN
CALSCALE:GREGORIAN
METHOD:PUBLISH
X-WR-CALNAME:JSS College for Women, Kollegal
X-ORIGINAL-URL:http://jsscwkgl.org
X-WR-CALDESC:Events for JSS College for Women, Kollegal
BEGIN:VTIMEZONE
TZID:UTC
BEGIN:STANDARD
TZOFFSETFROM:+0000
TZOFFSETTO:+0000
TZNAME:UTC
DTSTART:20190101T000000
END:STANDARD
END:VTIMEZONE
BEGIN:VEVENT
DTSTART;VALUE=DATE:20190410
DTEND;VALUE=DATE:20190601
DTSTAMP:20260426T002525
CREATED:20200117T085742Z
LAST-MODIFIED:20200117T085742Z
UID:7333-1554854400-1559347199@jsscwkgl.org
SUMMARY:Summer Vacation (including conducting of Examinations and Valuation work of Even Semesters)
DESCRIPTION:
URL:http://jsscwkgl.org/event/summer-vacation-including-conducting-of-examinations-and-valuation-work-of-even-semesters/
CATEGORIES:UG
END:VEVENT
END:VCALENDAR