BEGIN:VCALENDAR
VERSION:2.0
PRODID:-//JSS College for Women, Kollegal - ECPv5.5.0//NONSGML v1.0//EN
CALSCALE:GREGORIAN
METHOD:PUBLISH
X-WR-CALNAME:JSS College for Women, Kollegal
X-ORIGINAL-URL:http://jsscwkgl.org
X-WR-CALDESC:Events for JSS College for Women, Kollegal
BEGIN:VTIMEZONE
TZID:UTC
BEGIN:STANDARD
TZOFFSETFROM:+0000
TZOFFSETTO:+0000
TZNAME:UTC
DTSTART:20200101T000000
END:STANDARD
END:VTIMEZONE
BEGIN:VEVENT
DTSTART;VALUE=DATE:20200117
DTEND;VALUE=DATE:20200118
DTSTAMP:20260425T195828
CREATED:20200117T083548Z
LAST-MODIFIED:20200117T083548Z
UID:7314-1579219200-1579305599@jsscwkgl.org
SUMMARY:Re-opening of · Colleges for the academic year 2018-19 (Teaching Faculty should assist the admission process)
DESCRIPTION:
URL:http://jsscwkgl.org/event/re-opening-of-%c2%b7-colleges-for-the-academic-year-2018-19-teaching-faculty-should-assist-the-admission-process/
CATEGORIES:UG
END:VEVENT
END:VCALENDAR