BEGIN:VCALENDAR
VERSION:2.0
PRODID:-//JSS College for Women, Kollegal - ECPv5.5.0//NONSGML v1.0//EN
CALSCALE:GREGORIAN
METHOD:PUBLISH
X-WR-CALNAME:JSS College for Women, Kollegal
X-ORIGINAL-URL:http://jsscwkgl.org
X-WR-CALDESC:Events for JSS College for Women, Kollegal
BEGIN:VTIMEZONE
TZID:UTC
BEGIN:STANDARD
TZOFFSETFROM:+0000
TZOFFSETTO:+0000
TZNAME:UTC
DTSTART:20190101T000000
END:STANDARD
END:VTIMEZONE
BEGIN:VEVENT
DTSTART;VALUE=DATE:20190502
DTEND;VALUE=DATE:20190503
DTSTAMP:20260426T014436
CREATED:20200117T094354Z
LAST-MODIFIED:20200117T094354Z
UID:7400-1556755200-1556841599@jsscwkgl.org
SUMMARY:Last working day of the even semester (PG)
DESCRIPTION:
URL:http://jsscwkgl.org/event/last-working-day-of-the-even-semester-pg/
CATEGORIES:PG
END:VEVENT
END:VCALENDAR