BEGIN:VCALENDAR
VERSION:2.0
PRODID:-//JSS College for Women, Kollegal - ECPv5.5.0//NONSGML v1.0//EN
CALSCALE:GREGORIAN
METHOD:PUBLISH
X-WR-CALNAME:JSS College for Women, Kollegal
X-ORIGINAL-URL:http://jsscwkgl.org
X-WR-CALDESC:Events for JSS College for Women, Kollegal
BEGIN:VTIMEZONE
TZID:UTC
BEGIN:STANDARD
TZOFFSETFROM:+0000
TZOFFSETTO:+0000
TZNAME:UTC
DTSTART:20190101T000000
END:STANDARD
END:VTIMEZONE
BEGIN:VEVENT
DTSTART;VALUE=DATE:20190331
DTEND;VALUE=DATE:20190401
DTSTAMP:20260425T225219
CREATED:20200117T085425Z
LAST-MODIFIED:20200117T085425Z
UID:7331-1553990400-1554076799@jsscwkgl.org
SUMMARY:Last working day of even semester programmes
DESCRIPTION:
URL:http://jsscwkgl.org/event/last-working-day-of-even-semester-programmes/
CATEGORIES:UG
END:VEVENT
END:VCALENDAR