BEGIN:VCALENDAR
VERSION:2.0
PRODID:-//JSS College for Women, Kollegal - ECPv5.5.0//NONSGML v1.0//EN
CALSCALE:GREGORIAN
METHOD:PUBLISH
X-WR-CALNAME:JSS College for Women, Kollegal
X-ORIGINAL-URL:http://jsscwkgl.org
X-WR-CALDESC:Events for JSS College for Women, Kollegal
BEGIN:VTIMEZONE
TZID:UTC
BEGIN:STANDARD
TZOFFSETFROM:+0000
TZOFFSETTO:+0000
TZNAME:UTC
DTSTART:20180101T000000
END:STANDARD
END:VTIMEZONE
BEGIN:VEVENT
DTSTART;VALUE=DATE:20180707
DTEND;VALUE=DATE:20180708
DTSTAMP:20260425T224540
CREATED:20200117T084351Z
LAST-MODIFIED:20200117T084351Z
UID:7321-1530921600-1531007999@jsscwkgl.org
SUMMARY:Last date for admission with penal fee
DESCRIPTION:
URL:http://jsscwkgl.org/event/last-date-for-admission-with-penal-fee/
CATEGORIES:UG
END:VEVENT
END:VCALENDAR