BEGIN:VCALENDAR
VERSION:2.0
PRODID:-//JSS College for Women, Kollegal - ECPv5.5.0//NONSGML v1.0//EN
CALSCALE:GREGORIAN
METHOD:PUBLISH
X-WR-CALNAME:JSS College for Women, Kollegal
X-ORIGINAL-URL:http://jsscwkgl.org
X-WR-CALDESC:Events for JSS College for Women, Kollegal
BEGIN:VTIMEZONE
TZID:UTC
BEGIN:STANDARD
TZOFFSETFROM:+0000
TZOFFSETTO:+0000
TZNAME:UTC
DTSTART:20180101T000000
END:STANDARD
END:VTIMEZONE
BEGIN:VEVENT
DTSTART;VALUE=DATE:20181115
DTEND;VALUE=DATE:20181116
DTSTAMP:20260426T002145
CREATED:20200117T092615Z
LAST-MODIFIED:20200117T092615Z
UID:7367-1542240000-1542326399@jsscwkgl.org
SUMMARY:Commencement of Even Semester
DESCRIPTION:
URL:http://jsscwkgl.org/event/commencement-of-even-semester/
CATEGORIES:PG
END:VEVENT
END:VCALENDAR