BEGIN:VCALENDAR
VERSION:2.0
PRODID:-//JSS College for Women, Kollegal - ECPv5.5.0//NONSGML v1.0//EN
CALSCALE:GREGORIAN
METHOD:PUBLISH
X-WR-CALNAME:JSS College for Women, Kollegal
X-ORIGINAL-URL:http://jsscwkgl.org
X-WR-CALDESC:Events for JSS College for Women, Kollegal
BEGIN:VTIMEZONE
TZID:UTC
BEGIN:STANDARD
TZOFFSETFROM:+0000
TZOFFSETTO:+0000
TZNAME:UTC
DTSTART:20200101T000000
END:STANDARD
END:VTIMEZONE
BEGIN:VEVENT
DTSTART;VALUE=DATE:20200117
DTEND;VALUE=DATE:20200118
DTSTAMP:20260425T212619
CREATED:20200117T085251Z
LAST-MODIFIED:20200117T085251Z
UID:7329-1579219200-1579305599@jsscwkgl.org
SUMMARY:Commencement of all Even Semester Classes (II\,IV and VI Semesters/I\,II\,and Ill year
DESCRIPTION:
URL:http://jsscwkgl.org/event/commencement-of-all-even-semester-classes-iiiv-and-vi-semesters-iiiand-ill-year/
CATEGORIES:UG
END:VEVENT
END:VCALENDAR